BEGIN:VCALENDAR
VERSION:2.0
CALSCALE:GREGORIAN
PRODID:-//Diputació de Barcelona//DibaCMS//EN
BEGIN:VEVENT
UID:2416
DTSTAMP:20260421T140839
DTSTART:20231205T100000
DTEND:20240107T140000
SUMMARY:Exposició PESSEBRES EN MINIATURA
LOCATION:Oficina de Turisme C/ Raval, 18 
METHOD:PUBLISH
X-WR-CALNAME:baga@baga.cat
X-WR-TIMEZONE:Europe/Madrid
DESCRIPTION:
URI:https://www.baga.cat/actualitat/agenda/exposicio-pessebres-en-miniatura.html
CLASS:PUBLIC
END:VEVENT
END:VCALENDAR
