BEGIN:VCALENDAR
VERSION:2.0
CALSCALE:GREGORIAN
PRODID:-//Diputació de Barcelona//DibaCMS//EN
BEGIN:VEVENT
UID:2414
DTSTAMP:20260421T154201
DTSTART:20231227T160000
DTEND:20231228T200000
SUMMARY:Parc de Nadal
LOCATION:Passeig de Gibellàs, 1 08695 Bagà
METHOD:PUBLISH
X-WR-CALNAME:baga@baga.cat
X-WR-TIMEZONE:Europe/Madrid
DESCRIPTION:
URI:https://www.baga.cat/actualitat/agenda/parc-de-nadal.html
CLASS:PUBLIC
END:VEVENT
END:VCALENDAR
