BEGIN:VCALENDAR
VERSION:2.0
CALSCALE:GREGORIAN
PRODID:-//Diputació de Barcelona//DibaCMS//EN
BEGIN:VEVENT
UID:2413
DTSTAMP:20260421T125618
DTSTART:20231209T000000
DTEND:20240106T000000
SUMMARY:Exposició XIX Concurs de fotografia de la Fia-Faia
LOCATION:C. de la Vinya, 1 08695 Bagà
METHOD:PUBLISH
X-WR-CALNAME:baga@baga.cat
X-WR-TIMEZONE:Europe/Madrid
DESCRIPTION:
URI:https://www.baga.cat/actualitat/agenda/exposicio-xix-concurs-de-fotografia-de-la-fia-faia.html
CLASS:PUBLIC
END:VEVENT
END:VCALENDAR
