BEGIN:VCALENDAR
VERSION:2.0
CALSCALE:GREGORIAN
PRODID:-//Diputació de Barcelona//DibaCMS//EN
BEGIN:VEVENT
UID:2406
DTSTAMP:20260421T094550
DTSTART:20231222T100000
DTEND:20231222T130000
SUMMARY:Jornada Esports d'Aventura
LOCATION:Plaça Catalunya 
METHOD:PUBLISH
X-WR-CALNAME:baga@baga.cat
X-WR-TIMEZONE:Europe/Madrid
DESCRIPTION:
URI:https://www.baga.cat/actualitat/agenda/jornada-esports-daventura.html
CLASS:PUBLIC
END:VEVENT
END:VCALENDAR
