BEGIN:VCALENDAR
VERSION:2.0
CALSCALE:GREGORIAN
PRODID:-//Diputació de Barcelona//DibaCMS//EN
BEGIN:VEVENT
UID:2391
DTSTAMP:20260421T154859
DTSTART:20231103T193000
DTEND:20231103T193000
SUMMARY:Pel·lícula i debat
LOCATION:C. de la Vinya, 1 08695 Bagà
METHOD:PUBLISH
X-WR-CALNAME:baga@baga.cat
X-WR-TIMEZONE:Europe/Madrid
DESCRIPTION:
URI:https://www.baga.cat/actualitat/agenda/pellicula-i-debat.html
CLASS:PUBLIC
END:VEVENT
END:VCALENDAR
