BEGIN:VCALENDAR
VERSION:2.0
CALSCALE:GREGORIAN
PRODID:-//Diputació de Barcelona//DibaCMS//EN
BEGIN:VEVENT
UID:2383
DTSTAMP:20260421T171459
DTSTART:20231021T100000
DTEND:20231021T140000
SUMMARY:Trobada de Col·leccionisme de Tardor
LOCATION:Local Social - Av. Salarich, s/n (darrere pavelló) 
METHOD:PUBLISH
X-WR-CALNAME:baga@baga.cat
X-WR-TIMEZONE:Europe/Madrid
DESCRIPTION:
URI:https://www.baga.cat/actualitat/agenda/trobada-de-colleccionisme-de-tardor.html
CLASS:PUBLIC
END:VEVENT
END:VCALENDAR
