BEGIN:VCALENDAR
VERSION:2.0
CALSCALE:GREGORIAN
PRODID:-//Diputació de Barcelona//DibaCMS//EN
BEGIN:VEVENT
UID:2374
DTSTAMP:20260421T155532
DTSTART:20231021T170000
DTEND:20231021T170000
SUMMARY:Presentació del conte "Per què es riuen de Noa?"
LOCATION:Plaça Raval, 5 08695 Bagà
METHOD:PUBLISH
X-WR-CALNAME:baga@baga.cat
X-WR-TIMEZONE:Europe/Madrid
DESCRIPTION:
URI:https://www.baga.cat/actualitat/agenda/presentacio-del-conte-per-que-es-riuen-de-noa.html
CLASS:PUBLIC
END:VEVENT
END:VCALENDAR
