BEGIN:VCALENDAR
VERSION:2.0
CALSCALE:GREGORIAN
PRODID:-//Diputació de Barcelona//DibaCMS//EN
BEGIN:VEVENT
UID:2373
DTSTAMP:20260421T165755
DTSTART:20231028T170000
DTEND:20231028T170000
SUMMARY:Castanyada - Bagà Gran
LOCATION:c/ Historiador Pere Tomic, 1 08695 Bagà
METHOD:PUBLISH
X-WR-CALNAME:baga@baga.cat
X-WR-TIMEZONE:Europe/Madrid
DESCRIPTION:
URI:https://www.baga.cat/actualitat/agenda/2373-castanyada-baga-gran.html
CLASS:PUBLIC
END:VEVENT
END:VCALENDAR
