BEGIN:VCALENDAR
VERSION:2.0
CALSCALE:GREGORIAN
PRODID:-//Diputació de Barcelona//DibaCMS//EN
BEGIN:VEVENT
UID:2352
DTSTAMP:20260421T171533
DTSTART:20231123T090000
DTEND:20231123T090000
SUMMARY:Marxa Nòrdica
LOCATION:c/ Historiador Pere Tomic, 1 08695 Bagà
METHOD:PUBLISH
X-WR-CALNAME:baga@baga.cat
X-WR-TIMEZONE:Europe/Madrid
DESCRIPTION:
URI:https://www.baga.cat/actualitat/agenda/marxa-nordica.html
CLASS:PUBLIC
END:VEVENT
END:VCALENDAR
