BEGIN:VCALENDAR
VERSION:2.0
CALSCALE:GREGORIAN
PRODID:-//Diputació de Barcelona//DibaCMS//EN
BEGIN:VEVENT
UID:2349
DTSTAMP:20260421T075647
DTSTART:20231214T113000
DTEND:20231214T123000
SUMMARY:1a Edició Escola de Salut a Bagà
LOCATION:c/ Historiador Pere Tomic, 1 08695 Bagà
METHOD:PUBLISH
X-WR-CALNAME:baga@baga.cat
X-WR-TIMEZONE:Europe/Madrid
DESCRIPTION:
URI:https://www.baga.cat/actualitat/agenda/2349-1a-edicio-escola-de-salut-a-baga.html
CLASS:PUBLIC
END:VEVENT
END:VCALENDAR
