BEGIN:VCALENDAR
VERSION:2.0
CALSCALE:GREGORIAN
PRODID:-//Diputació de Barcelona//DibaCMS//EN
BEGIN:VEVENT
UID:2346
DTSTAMP:20260421T135230
DTSTART:20231014T170000
DTEND:20231015T120000
SUMMARY:Visita al Palau de Pinós
LOCATION:
METHOD:PUBLISH
X-WR-CALNAME:baga@baga.cat
X-WR-TIMEZONE:Europe/Madrid
DESCRIPTION:
URI:https://www.baga.cat/actualitat/agenda/visita-al-palau-de-pinos.html
CLASS:PUBLIC
END:VEVENT
END:VCALENDAR
