BEGIN:VCALENDAR
VERSION:2.0
CALSCALE:GREGORIAN
PRODID:-//Diputació de Barcelona//DibaCMS//EN
BEGIN:VEVENT
UID:2345
DTSTAMP:20260421T135100
DTSTART:20231014T103000
DTEND:20231015T103000
SUMMARY:Visita Centre Medieval i dels Càtars
LOCATION:
METHOD:PUBLISH
X-WR-CALNAME:baga@baga.cat
X-WR-TIMEZONE:Europe/Madrid
DESCRIPTION:
URI:https://www.baga.cat/actualitat/agenda/visita-centre-medieval-i-dels-catars.html
CLASS:PUBLIC
END:VEVENT
END:VCALENDAR
