BEGIN:VCALENDAR
VERSION:2.0
CALSCALE:GREGORIAN
PRODID:-//Diputació de Barcelona//DibaCMS//EN
BEGIN:VEVENT
UID:2310
DTSTAMP:20260421T171643
DTSTART:20230805T190000
DTEND:20230805T190000
SUMMARY:Ball de tarda amb SIFASOL
LOCATION:Plaça Galceran de Pinós 08695 Bagà
METHOD:PUBLISH
X-WR-CALNAME:baga@baga.cat
X-WR-TIMEZONE:Europe/Madrid
DESCRIPTION:
URI:https://www.baga.cat/actualitat/agenda/ball-de-tarda-amb-sifasol.html
CLASS:PUBLIC
END:VEVENT
END:VCALENDAR
