BEGIN:VCALENDAR
VERSION:2.0
CALSCALE:GREGORIAN
PRODID:-//Diputació de Barcelona//DibaCMS//EN
BEGIN:VEVENT
UID:2306
DTSTAMP:20260421T135642
DTSTART:20230819T100000
DTEND:20230819T140000
SUMMARY:XXIV Trobada Plaques de Cava
LOCATION:Local social ACP i pati exterior (Av. Salarich, s/n - darrere el Pavelló) 
METHOD:PUBLISH
X-WR-CALNAME:baga@baga.cat
X-WR-TIMEZONE:Europe/Madrid
DESCRIPTION:
URI:https://www.baga.cat/actualitat/agenda/xxiv-trobada-plaques-de-cava.html
CLASS:PUBLIC
END:VEVENT
END:VCALENDAR
