BEGIN:VCALENDAR
VERSION:2.0
CALSCALE:GREGORIAN
PRODID:-//Diputació de Barcelona//DibaCMS//EN
BEGIN:VEVENT
UID:2299
DTSTAMP:20260421T184243
DTSTART:20230812T000000
DTEND:20230813T000000
SUMMARY:Trail Moixeró
LOCATION:
METHOD:PUBLISH
X-WR-CALNAME:baga@baga.cat
X-WR-TIMEZONE:Europe/Madrid
DESCRIPTION:
URI:https://www.baga.cat/actualitat/agenda/trail-moixero.html
CLASS:PUBLIC
END:VEVENT
END:VCALENDAR
