BEGIN:VCALENDAR
VERSION:2.0
CALSCALE:GREGORIAN
PRODID:-//Diputació de Barcelona//DibaCMS//EN
BEGIN:VEVENT
UID:2298
DTSTAMP:20260421T173125
DTSTART:20230730T180000
DTEND:20230730T180000
SUMMARY:Carquinyolada
LOCATION:Plaça Galceran de Pinós 08695 Bagà
METHOD:PUBLISH
X-WR-CALNAME:baga@baga.cat
X-WR-TIMEZONE:Europe/Madrid
DESCRIPTION:
URI:https://www.baga.cat/actualitat/agenda/carquinyolada.html
CLASS:PUBLIC
END:VEVENT
END:VCALENDAR
