BEGIN:VCALENDAR
VERSION:2.0
CALSCALE:GREGORIAN
PRODID:-//Diputació de Barcelona//DibaCMS//EN
BEGIN:VEVENT
UID:2295
DTSTAMP:20260421T183022
DTSTART:20230704T000000
DTEND:20230823T090000
SUMMARY:Viu l'estiu a Bagà
LOCATION:Passeig Bastareny, s/n 08695 Bagà
METHOD:PUBLISH
X-WR-CALNAME:baga@baga.cat
X-WR-TIMEZONE:Europe/Madrid
DESCRIPTION:
URI:https://www.baga.cat/actualitat/agenda/viu-lestiu-a-baga.html
CLASS:PUBLIC
END:VEVENT
END:VCALENDAR
