BEGIN:VCALENDAR
VERSION:2.0
CALSCALE:GREGORIAN
PRODID:-//Diputació de Barcelona//DibaCMS//EN
BEGIN:VEVENT
UID:2294
DTSTAMP:20260421T185325
DTSTART:20230708T180000
DTEND:20230708T180000
SUMMARY:Presentació llibre UNA VISIÓ DEL BERGUEDÀ
LOCATION:C. de la Vinya, 1 08695 Bagà
METHOD:PUBLISH
X-WR-CALNAME:baga@baga.cat
X-WR-TIMEZONE:Europe/Madrid
DESCRIPTION:
URI:https://www.baga.cat/actualitat/agenda/presentacio-llibre-una-visio-del-bergueda.html
CLASS:PUBLIC
END:VEVENT
END:VCALENDAR
