BEGIN:VCALENDAR
VERSION:2.0
CALSCALE:GREGORIAN
PRODID:-//Diputació de Barcelona//DibaCMS//EN
BEGIN:VEVENT
UID:2293
DTSTAMP:20260421T140528
DTSTART:20230707T200000
DTEND:20230709T200000
SUMMARY:1r Festival Musico-Cultural Alt Berguedà
LOCATION:
METHOD:PUBLISH
X-WR-CALNAME:baga@baga.cat
X-WR-TIMEZONE:Europe/Madrid
DESCRIPTION:
URI:https://www.baga.cat/actualitat/agenda/1r-festival-musico-cultural-alt-bergueda.html
CLASS:PUBLIC
END:VEVENT
END:VCALENDAR
