BEGIN:VCALENDAR
VERSION:2.0
CALSCALE:GREGORIAN
PRODID:-//Diputació de Barcelona//DibaCMS//EN
BEGIN:VEVENT
UID:2289
DTSTAMP:20260421T171340
DTSTART:20230709T073000
DTEND:20230709T073000
SUMMARY:Excursió a Coma d'Or
LOCATION:
METHOD:PUBLISH
X-WR-CALNAME:baga@baga.cat
X-WR-TIMEZONE:Europe/Madrid
DESCRIPTION:
URI:https://www.baga.cat/actualitat/agenda/excursio-a-coma-dor.html
CLASS:PUBLIC
END:VEVENT
END:VCALENDAR
