BEGIN:VCALENDAR
VERSION:2.0
CALSCALE:GREGORIAN
PRODID:-//Diputació de Barcelona//DibaCMS//EN
BEGIN:VEVENT
UID:2286
DTSTAMP:20260421T171427
DTSTART:20230702T080000
DTEND:20230702T080000
SUMMARY:4 Cims
LOCATION:
METHOD:PUBLISH
X-WR-CALNAME:baga@baga.cat
X-WR-TIMEZONE:Europe/Madrid
DESCRIPTION:
URI:https://www.baga.cat/actualitat/agenda/4-cims.html
CLASS:PUBLIC
END:VEVENT
END:VCALENDAR
