BEGIN:VCALENDAR
VERSION:2.0
CALSCALE:GREGORIAN
PRODID:-//Diputació de Barcelona//DibaCMS//EN
BEGIN:VEVENT
UID:2285
DTSTAMP:20260421T184726
DTSTART:20230624T180000
DTEND:20230624T180000
SUMMARY:Aplec Sant Joan de l'Avellanet
LOCATION:Sant Joan de l'Avellanet (en cas de mal temps, el berenar i l'actuació musical es faran al cobert del campament)

 
METHOD:PUBLISH
X-WR-CALNAME:baga@baga.cat
X-WR-TIMEZONE:Europe/Madrid
DESCRIPTION:
URI:https://www.baga.cat/actualitat/agenda/aplec-sant-joan-de-lavellanet.html
CLASS:PUBLIC
END:VEVENT
END:VCALENDAR
