BEGIN:VCALENDAR
VERSION:2.0
CALSCALE:GREGORIAN
PRODID:-//Diputació de Barcelona//DibaCMS//EN
BEGIN:VEVENT
UID:2284
DTSTAMP:20260421T152841
DTSTART:20230623T170000
DTEND:20230623T190000
SUMMARY:Revetlla Sant Joan infantil
LOCATION:Plaça Tiraval 
METHOD:PUBLISH
X-WR-CALNAME:baga@baga.cat
X-WR-TIMEZONE:Europe/Madrid
DESCRIPTION:
URI:https://www.baga.cat/actualitat/agenda/revetlla-sant-joan-infantil.html
CLASS:PUBLIC
END:VEVENT
END:VCALENDAR
