BEGIN:VCALENDAR
VERSION:2.0
CALSCALE:GREGORIAN
PRODID:-//Diputació de Barcelona//DibaCMS//EN
BEGIN:VEVENT
UID:2281
DTSTAMP:20260421T171654
DTSTART:20230622T180000
DTEND:20230622T180000
SUMMARY:Parlem d'Esport al Pirineu
LOCATION:Plaça Raval, 5 08695 Bagà
METHOD:PUBLISH
X-WR-CALNAME:baga@baga.cat
X-WR-TIMEZONE:Europe/Madrid
DESCRIPTION:
URI:https://www.baga.cat/actualitat/agenda/parlem-desport-al-pirineu.html
CLASS:PUBLIC
END:VEVENT
END:VCALENDAR
