BEGIN:VCALENDAR
VERSION:2.0
CALSCALE:GREGORIAN
PRODID:-//Diputació de Barcelona//DibaCMS//EN
BEGIN:VEVENT
UID:2280
DTSTAMP:20260421T195123
DTSTART:20230614T000000
DTEND:20230630T000000
SUMMARY:4t Torneig Tennis Jesús Rodríguez "Rosli"
LOCATION:
METHOD:PUBLISH
X-WR-CALNAME:baga@baga.cat
X-WR-TIMEZONE:Europe/Madrid
DESCRIPTION:
URI:https://www.baga.cat/actualitat/agenda/4t-torneig-tennis-jesus-rodriguez-rosli.html
CLASS:PUBLIC
END:VEVENT
END:VCALENDAR
