BEGIN:VCALENDAR
VERSION:2.0
CALSCALE:GREGORIAN
PRODID:-//Diputació de Barcelona//DibaCMS//EN
BEGIN:VEVENT
UID:2272
DTSTAMP:20260421T152547
DTSTART:20230604T110000
DTEND:20230604T110000
SUMMARY:Partit CCR Alt Berguedà
LOCATION:Camp Municipal de Guardiola de Berguedà 
METHOD:PUBLISH
X-WR-CALNAME:baga@baga.cat
X-WR-TIMEZONE:Europe/Madrid
DESCRIPTION:
URI:https://www.baga.cat/actualitat/agenda/2272-partit-ccr-alt-bergueda.html
CLASS:PUBLIC
END:VEVENT
END:VCALENDAR
