BEGIN:VCALENDAR
VERSION:2.0
CALSCALE:GREGORIAN
PRODID:-//Diputació de Barcelona//DibaCMS//EN
BEGIN:VEVENT
UID:2270
DTSTAMP:20260421T185245
DTSTART:20230617T170000
DTEND:20230617T170000
SUMMARY:Festa Sant Joan - Bagà Gran
LOCATION:c/ Historiador Pere Tomic, 1 08695 Bagà
METHOD:PUBLISH
X-WR-CALNAME:baga@baga.cat
X-WR-TIMEZONE:Europe/Madrid
DESCRIPTION:
URI:https://www.baga.cat/actualitat/agenda/festa-sant-joan-baga-gran.html
CLASS:PUBLIC
END:VEVENT
END:VCALENDAR
