BEGIN:VCALENDAR
VERSION:2.0
CALSCALE:GREGORIAN
PRODID:-//Diputació de Barcelona//DibaCMS//EN
BEGIN:VEVENT
UID:2269
DTSTAMP:20260421T165534
DTSTART:20230601T000000
DTEND:20230720T000000
SUMMARY:Engalana't Bagà
LOCATION:
METHOD:PUBLISH
X-WR-CALNAME:baga@baga.cat
X-WR-TIMEZONE:Europe/Madrid
DESCRIPTION:
URI:https://www.baga.cat/actualitat/agenda/engalanat-baga.html
CLASS:PUBLIC
END:VEVENT
END:VCALENDAR
