BEGIN:VCALENDAR
VERSION:2.0
CALSCALE:GREGORIAN
PRODID:-//Diputació de Barcelona//DibaCMS//EN
BEGIN:VEVENT
UID:2268
DTSTAMP:20260421T152701
DTSTART:20230618T080000
DTEND:20230618T080000
SUMMARY:XXXI Caminada Popular de Bagà
LOCATION:
METHOD:PUBLISH
X-WR-CALNAME:baga@baga.cat
X-WR-TIMEZONE:Europe/Madrid
DESCRIPTION:
URI:https://www.baga.cat/actualitat/agenda/xxxi-caminada-popular-de-baga.html
CLASS:PUBLIC
END:VEVENT
END:VCALENDAR
