BEGIN:VCALENDAR
VERSION:2.0
CALSCALE:GREGORIAN
PRODID:-//Diputació de Barcelona//DibaCMS//EN
BEGIN:VEVENT
UID:2265
DTSTAMP:20260421T152734
DTSTART:20230604T093000
DTEND:20230604T093000
SUMMARY:V Milla Vertical Puigllançada-XXXIX Pujada Coll de Pal
LOCATION:
METHOD:PUBLISH
X-WR-CALNAME:baga@baga.cat
X-WR-TIMEZONE:Europe/Madrid
DESCRIPTION:
URI:https://www.baga.cat/actualitat/agenda/v-milla-vertical-puigllancada-xxxix-pujada-coll-de-pal.html
CLASS:PUBLIC
END:VEVENT
END:VCALENDAR
