BEGIN:VCALENDAR
VERSION:2.0
CALSCALE:GREGORIAN
PRODID:-//Diputació de Barcelona//DibaCMS//EN
BEGIN:VEVENT
UID:2264
DTSTAMP:20260421T165614
DTSTART:20230603T093000
DTEND:20230603T190000
SUMMARY:Festa del Soci Penya Blaugrana
LOCATION:
METHOD:PUBLISH
X-WR-CALNAME:baga@baga.cat
X-WR-TIMEZONE:Europe/Madrid
DESCRIPTION:
URI:https://www.baga.cat/actualitat/agenda/festa-del-soci-penya-blaugrana.html
CLASS:PUBLIC
END:VEVENT
END:VCALENDAR
