BEGIN:VCALENDAR
VERSION:2.0
CALSCALE:GREGORIAN
PRODID:-//Diputació de Barcelona//DibaCMS//EN
BEGIN:VEVENT
UID:2239
DTSTAMP:20260421T214912
DTSTART:20230513T160000
DTEND:20230513T190000
SUMMARY:El Cadí-Moixeró, n'està o en pot estar de gentrificat?
LOCATION:C. de la Vinya, 1 08695 Bagà
METHOD:PUBLISH
X-WR-CALNAME:baga@baga.cat
X-WR-TIMEZONE:Europe/Madrid
DESCRIPTION:
URI:https://www.baga.cat/actualitat/agenda/el-cadi-moixero-nesta-o-en-pot-estar-de-gentrificat.html
CLASS:PUBLIC
END:VEVENT
END:VCALENDAR
