BEGIN:VCALENDAR
VERSION:2.0
CALSCALE:GREGORIAN
PRODID:-//Diputació de Barcelona//DibaCMS//EN
BEGIN:VEVENT
UID:2227
DTSTAMP:20260421T184824
DTSTART:20230520T170000
DTEND:20230520T170000
SUMMARY:Festa de la Primavera - Bagà Gran
LOCATION:c/ Historiador Pere Tomic, 1 08695 Bagà
METHOD:PUBLISH
X-WR-CALNAME:baga@baga.cat
X-WR-TIMEZONE:Europe/Madrid
DESCRIPTION:
URI:https://www.baga.cat/actualitat/agenda/festa-de-la-primavera-baga-gran.html
CLASS:PUBLIC
END:VEVENT
END:VCALENDAR
