BEGIN:VCALENDAR
VERSION:2.0
CALSCALE:GREGORIAN
PRODID:-//Diputació de Barcelona//DibaCMS//EN
BEGIN:VEVENT
UID:2225
DTSTAMP:20260422T004431
DTSTART:20230429T110000
DTEND:20230429T160000
SUMMARY:Partits CCR
LOCATION:Camp Municipal Guardiola de Berguedà 
METHOD:PUBLISH
X-WR-CALNAME:baga@baga.cat
X-WR-TIMEZONE:Europe/Madrid
DESCRIPTION:
URI:https://www.baga.cat/actualitat/agenda/2225-partits-ccr.html
CLASS:PUBLIC
END:VEVENT
END:VCALENDAR
