BEGIN:VCALENDAR
VERSION:2.0
CALSCALE:GREGORIAN
PRODID:-//Diputació de Barcelona//DibaCMS//EN
BEGIN:VEVENT
UID:2222
DTSTAMP:20260421T201758
DTSTART:20230421T104500
DTEND:20230421T130000
SUMMARY:Sant Jordi - Institut Alt Berguedà
LOCATION:Plaça Tiraval 
METHOD:PUBLISH
X-WR-CALNAME:baga@baga.cat
X-WR-TIMEZONE:Europe/Madrid
DESCRIPTION:
URI:https://www.baga.cat/actualitat/agenda/sant-jordi-institut-alt-bergueda.html
CLASS:PUBLIC
END:VEVENT
END:VCALENDAR
