BEGIN:VCALENDAR
VERSION:2.0
CALSCALE:GREGORIAN
PRODID:-//Diputació de Barcelona//DibaCMS//EN
BEGIN:VEVENT
UID:2219
DTSTAMP:20260421T215350
DTSTART:20230430T180000
DTEND:20230430T180000
SUMMARY:La Festa de la Primavera
LOCATION:Plaça Raval, 5 08695 Bagà
METHOD:PUBLISH
X-WR-CALNAME:baga@baga.cat
X-WR-TIMEZONE:Europe/Madrid
DESCRIPTION:
URI:https://www.baga.cat/actualitat/agenda/la-festa-de-la-primavera.html
CLASS:PUBLIC
END:VEVENT
END:VCALENDAR
