BEGIN:VCALENDAR
VERSION:2.0
CALSCALE:GREGORIAN
PRODID:-//Diputació de Barcelona//DibaCMS//EN
BEGIN:VEVENT
UID:2218
DTSTAMP:20260422T002308
DTSTART:20230511T000000
DTEND:20230531T000000
SUMMARY:Engalana't Bagà - Flor
LOCATION:
METHOD:PUBLISH
X-WR-CALNAME:baga@baga.cat
X-WR-TIMEZONE:Europe/Madrid
DESCRIPTION:
URI:https://www.baga.cat/actualitat/agenda/engalanat-baga-flor.html
CLASS:PUBLIC
END:VEVENT
END:VCALENDAR
