BEGIN:VCALENDAR
VERSION:2.0
CALSCALE:GREGORIAN
PRODID:-//Diputació de Barcelona//DibaCMS//EN
BEGIN:VEVENT
UID:2217
DTSTAMP:20260422T024149
DTSTART:20230421T100000
DTEND:20230421T123000
SUMMARY:3a Marató de Lectura per la Llengua
LOCATION:Plaça Tiraval 
METHOD:PUBLISH
X-WR-CALNAME:baga@baga.cat
X-WR-TIMEZONE:Europe/Madrid
DESCRIPTION:
URI:https://www.baga.cat/actualitat/agenda/3a-marato-de-lectura-per-la-llengua.html
CLASS:PUBLIC
END:VEVENT
END:VCALENDAR
