BEGIN:VCALENDAR
VERSION:2.0
CALSCALE:GREGORIAN
PRODID:-//Diputació de Barcelona//DibaCMS//EN
BEGIN:VEVENT
UID:2215
DTSTAMP:20260421T203644
DTSTART:20230416T180000
DTEND:20230416T180000
SUMMARY:Truitada
LOCATION:
METHOD:PUBLISH
X-WR-CALNAME:baga@baga.cat
X-WR-TIMEZONE:Europe/Madrid
DESCRIPTION:
URI:https://www.baga.cat/actualitat/agenda/truitada.html
CLASS:PUBLIC
END:VEVENT
END:VCALENDAR
