BEGIN:VCALENDAR
VERSION:2.0
CALSCALE:GREGORIAN
PRODID:-//Diputació de Barcelona//DibaCMS//EN
BEGIN:VEVENT
UID:2209
DTSTAMP:20260421T185034
DTSTART:20230416T083000
DTEND:20230416T083000
SUMMARY:Excursió UEC
LOCATION:
METHOD:PUBLISH
X-WR-CALNAME:baga@baga.cat
X-WR-TIMEZONE:Europe/Madrid
DESCRIPTION:
URI:https://www.baga.cat/actualitat/agenda/excursio-uec.html
CLASS:PUBLIC
END:VEVENT
END:VCALENDAR
