BEGIN:VCALENDAR
VERSION:2.0
CALSCALE:GREGORIAN
PRODID:-//Diputació de Barcelona//DibaCMS//EN
BEGIN:VEVENT
UID:2208
DTSTAMP:20260421T185618
DTSTART:20230408T090000
DTEND:20230408T235900
SUMMARY:Torneig de Pàdel
LOCATION:Pistes de Pàdel 
METHOD:PUBLISH
X-WR-CALNAME:baga@baga.cat
X-WR-TIMEZONE:Europe/Madrid
DESCRIPTION:
URI:https://www.baga.cat/actualitat/agenda/torneig-de-padel.html
CLASS:PUBLIC
END:VEVENT
END:VCALENDAR
