BEGIN:VCALENDAR
VERSION:2.0
CALSCALE:GREGORIAN
PRODID:-//Diputació de Barcelona//DibaCMS//EN
BEGIN:VEVENT
UID:2207
DTSTAMP:20260421T185337
DTSTART:20230401T100000
DTEND:20230401T100000
SUMMARY:Inauguració El Blat
LOCATION:C/ Berga, 67 - 69 
METHOD:PUBLISH
X-WR-CALNAME:baga@baga.cat
X-WR-TIMEZONE:Europe/Madrid
DESCRIPTION:
URI:https://www.baga.cat/actualitat/agenda/2207-inauguracio-el-blat.html
CLASS:PUBLIC
END:VEVENT
END:VCALENDAR
