BEGIN:VCALENDAR
VERSION:2.0
CALSCALE:GREGORIAN
PRODID:-//Diputació de Barcelona//DibaCMS//EN
BEGIN:VEVENT
UID:2204
DTSTAMP:20260421T185259
DTSTART:20230411T100000
DTEND:20230427T120000
SUMMARY:Gaudeix de la vida, posa't en marxa!
LOCATION:
METHOD:PUBLISH
X-WR-CALNAME:baga@baga.cat
X-WR-TIMEZONE:Europe/Madrid
DESCRIPTION:
URI:https://www.baga.cat/actualitat/agenda/gaudeix-de-la-vida-posat-en-marxa.html
CLASS:PUBLIC
END:VEVENT
END:VCALENDAR
