BEGIN:VCALENDAR
VERSION:2.0
CALSCALE:GREGORIAN
PRODID:-//Diputació de Barcelona//DibaCMS//EN
BEGIN:VEVENT
UID:2203
DTSTAMP:20260421T185142
DTSTART:20230401T120000
DTEND:20230401T120000
SUMMARY:Partits CCR Alt Berguedà
LOCATION:Camp Municipal de Guardiola de Berguedà 
METHOD:PUBLISH
X-WR-CALNAME:baga@baga.cat
X-WR-TIMEZONE:Europe/Madrid
DESCRIPTION:
URI:https://www.baga.cat/actualitat/agenda/2203-partits-ccr-alt-bergueda.html
CLASS:PUBLIC
END:VEVENT
END:VCALENDAR
