BEGIN:VCALENDAR
VERSION:2.0
CALSCALE:GREGORIAN
PRODID:-//Diputació de Barcelona//DibaCMS//EN
BEGIN:VEVENT
UID:2195
DTSTAMP:20260421T201017
DTSTART:20230319T083000
DTEND:20230319T083000
SUMMARY:Excursió al Tossal d'Isovol
LOCATION:
METHOD:PUBLISH
X-WR-CALNAME:baga@baga.cat
X-WR-TIMEZONE:Europe/Madrid
DESCRIPTION:
URI:https://www.baga.cat/actualitat/agenda/excursio-al-tossal-disovol.html
CLASS:PUBLIC
END:VEVENT
END:VCALENDAR
