BEGIN:VCALENDAR
VERSION:2.0
CALSCALE:GREGORIAN
PRODID:-//Diputació de Barcelona//DibaCMS//EN
BEGIN:VEVENT
UID:2185
DTSTAMP:20260421T233307
DTSTART:20230226T090000
DTEND:20230226T133000
SUMMARY:1r Torneig Pàdel Femení
LOCATION:
METHOD:PUBLISH
X-WR-CALNAME:baga@baga.cat
X-WR-TIMEZONE:Europe/Madrid
DESCRIPTION:
URI:https://www.baga.cat/actualitat/agenda/1r-torneig-padel-femeni.html
CLASS:PUBLIC
END:VEVENT
END:VCALENDAR
