BEGIN:VCALENDAR
VERSION:2.0
CALSCALE:GREGORIAN
PRODID:-//Diputació de Barcelona//DibaCMS//EN
BEGIN:VEVENT
UID:2184
DTSTAMP:20260422T010426
DTSTART:20230216T170000
DTEND:20230330T183000
SUMMARY:Xarxa de Famílies del Berguedà
LOCATION:Av. Reina Elisenda, 2 08695 Bagà
METHOD:PUBLISH
X-WR-CALNAME:baga@baga.cat
X-WR-TIMEZONE:Europe/Madrid
DESCRIPTION:
URI:https://www.baga.cat/actualitat/agenda/xarxa-de-families-del-bergueda.html
CLASS:PUBLIC
END:VEVENT
END:VCALENDAR
