BEGIN:VCALENDAR
VERSION:2.0
CALSCALE:GREGORIAN
PRODID:-//Diputació de Barcelona//DibaCMS//EN
BEGIN:VEVENT
UID:2177
DTSTAMP:20260421T215437
DTSTART:20230211T110000
DTEND:20230211T110000
SUMMARY:Partit Pàdel
LOCATION:
METHOD:PUBLISH
X-WR-CALNAME:baga@baga.cat
X-WR-TIMEZONE:Europe/Madrid
DESCRIPTION:
URI:https://www.baga.cat/actualitat/agenda/partit-padel.html
CLASS:PUBLIC
END:VEVENT
END:VCALENDAR
