BEGIN:VCALENDAR
VERSION:2.0
CALSCALE:GREGORIAN
PRODID:-//Diputació de Barcelona//DibaCMS//EN
BEGIN:VEVENT
UID:2175
DTSTAMP:20260421T215836
DTSTART:20230217T164500
DTEND:20230217T164500
SUMMARY:Carnaval Infantil Bagà
LOCATION:Passeig de Gibellàs, 1 08695 Bagà
METHOD:PUBLISH
X-WR-CALNAME:baga@baga.cat
X-WR-TIMEZONE:Europe/Madrid
DESCRIPTION:
URI:https://www.baga.cat/actualitat/agenda/carnaval-infantil-baga.html
CLASS:PUBLIC
END:VEVENT
END:VCALENDAR
