BEGIN:VCALENDAR
VERSION:2.0
CALSCALE:GREGORIAN
PRODID:-//Diputació de Barcelona//DibaCMS//EN
BEGIN:VEVENT
UID:2174
DTSTAMP:20260422T002514
DTSTART:20230213T190000
DTEND:20230213T190000
SUMMARY:Xerrada Unió de Pagesos
LOCATION:
METHOD:PUBLISH
X-WR-CALNAME:baga@baga.cat
X-WR-TIMEZONE:Europe/Madrid
DESCRIPTION:
URI:https://www.baga.cat/actualitat/agenda/xerrada-unio-de-pagesos.html
CLASS:PUBLIC
END:VEVENT
END:VCALENDAR
